BEGIN:VCALENDAR
VERSION:2.0
PRODID:-//FilePoint - ECPv6.15.20//NONSGML v1.0//EN
CALSCALE:GREGORIAN
METHOD:PUBLISH
X-ORIGINAL-URL:https://filepoint.com
X-WR-CALDESC:Events for FilePoint
REFRESH-INTERVAL;VALUE=DURATION:PT1H
X-Robots-Tag:noindex
X-PUBLISHED-TTL:PT1H
BEGIN:VTIMEZONE
TZID:America/New_York
BEGIN:DAYLIGHT
TZOFFSETFROM:-0500
TZOFFSETTO:-0400
TZNAME:EDT
DTSTART:20240310T070000
END:DAYLIGHT
BEGIN:STANDARD
TZOFFSETFROM:-0400
TZOFFSETTO:-0500
TZNAME:EST
DTSTART:20241103T060000
END:STANDARD
BEGIN:DAYLIGHT
TZOFFSETFROM:-0500
TZOFFSETTO:-0400
TZNAME:EDT
DTSTART:20250309T070000
END:DAYLIGHT
BEGIN:STANDARD
TZOFFSETFROM:-0400
TZOFFSETTO:-0500
TZNAME:EST
DTSTART:20251102T060000
END:STANDARD
BEGIN:DAYLIGHT
TZOFFSETFROM:-0500
TZOFFSETTO:-0400
TZNAME:EDT
DTSTART:20260308T070000
END:DAYLIGHT
BEGIN:STANDARD
TZOFFSETFROM:-0400
TZOFFSETTO:-0500
TZNAME:EST
DTSTART:20261101T060000
END:STANDARD
END:VTIMEZONE
BEGIN:VEVENT
DTSTART;VALUE=DATE:20251210
DTEND;VALUE=DATE:20251211
DTSTAMP:20260422T053215
CREATED:20241212T152158Z
LAST-MODIFIED:20241212T152301Z
UID:2307-1765324800-1765411199@filepoint.com
SUMMARY:Investment Company Names
DESCRIPTION:Large fund groups (net assets of $1 billion or more at the end of the most recent fiscal year) will be required to adopt a policy to invest at least 80% of the value of their assets in accordance with the investment focus that the fund’s name suggests\, update the rule’s notice requirements\, and establish recordkeeping requirements. The SEC is also adopting additional N-PORT reporting requirements.
URL:https://filepoint.com/event/investment-company-names/
CATEGORIES:Compliance Dates for New (Final) Rules
END:VEVENT
BEGIN:VEVENT
DTSTART;VALUE=DATE:20251222
DTEND;VALUE=DATE:20251223
DTSTAMP:20260422T053215
CREATED:20241212T152247Z
LAST-MODIFIED:20241212T152247Z
UID:2308-1766361600-1766447999@filepoint.com
SUMMARY:EDGAR Filer Access and Account Management “EDGAR Next”
DESCRIPTION:After this date\, filers that have not enrolled in EDGAR Next or received access through submission of amended Form ID will be required to submit amended Form ID to request access to their existing accounts.
URL:https://filepoint.com/event/edgar-filer-access-and-account-management-edgar-next-3/
CATEGORIES:Compliance Dates for New (Final) Rules
END:VEVENT
END:VCALENDAR