BEGIN:VCALENDAR
VERSION:2.0
PRODID:-//FilePoint - ECPv6.15.20//NONSGML v1.0//EN
CALSCALE:GREGORIAN
METHOD:PUBLISH
X-WR-CALNAME:FilePoint
X-ORIGINAL-URL:https://filepoint.com
X-WR-CALDESC:Events for FilePoint
REFRESH-INTERVAL;VALUE=DURATION:PT1H
X-Robots-Tag:noindex
X-PUBLISHED-TTL:PT1H
BEGIN:VTIMEZONE
TZID:America/New_York
BEGIN:DAYLIGHT
TZOFFSETFROM:-0500
TZOFFSETTO:-0400
TZNAME:EDT
DTSTART:20250309T070000
END:DAYLIGHT
BEGIN:STANDARD
TZOFFSETFROM:-0400
TZOFFSETTO:-0500
TZNAME:EST
DTSTART:20251102T060000
END:STANDARD
BEGIN:DAYLIGHT
TZOFFSETFROM:-0500
TZOFFSETTO:-0400
TZNAME:EDT
DTSTART:20260308T070000
END:DAYLIGHT
BEGIN:STANDARD
TZOFFSETFROM:-0400
TZOFFSETTO:-0500
TZNAME:EST
DTSTART:20261101T060000
END:STANDARD
BEGIN:DAYLIGHT
TZOFFSETFROM:-0500
TZOFFSETTO:-0400
TZNAME:EDT
DTSTART:20270314T070000
END:DAYLIGHT
BEGIN:STANDARD
TZOFFSETFROM:-0400
TZOFFSETTO:-0500
TZNAME:EST
DTSTART:20271107T060000
END:STANDARD
END:VTIMEZONE
BEGIN:VEVENT
DTSTART;VALUE=DATE:20261012
DTEND;VALUE=DATE:20261013
DTSTAMP:20260420T053034
CREATED:20241212T153417Z
LAST-MODIFIED:20260108T151157Z
UID:2322-1791763200-1791849599@filepoint.com
SUMMARY:Indigenous Peoples Day
DESCRIPTION:EDGAR closure; NYSE closure
URL:https://filepoint.com/event/indigenous-peoples-day/
CATEGORIES:Federal Holiday
END:VEVENT
BEGIN:VEVENT
DTSTART;VALUE=DATE:20261111
DTEND;VALUE=DATE:20261112
DTSTAMP:20260420T053034
CREATED:20241212T153508Z
LAST-MODIFIED:20260108T151259Z
UID:2323-1794355200-1794441599@filepoint.com
SUMMARY:Veterans Day
DESCRIPTION:EDGAR closure; NYSE closure
URL:https://filepoint.com/event/veterans-day-2/
CATEGORIES:Federal Holiday
END:VEVENT
BEGIN:VEVENT
DTSTART;VALUE=DATE:20261126
DTEND;VALUE=DATE:20261127
DTSTAMP:20260420T053034
CREATED:20241212T153539Z
LAST-MODIFIED:20260108T151420Z
UID:2324-1795651200-1795737599@filepoint.com
SUMMARY:Thanksgiving Day
DESCRIPTION:EDGAR closure; NYSE closure
URL:https://filepoint.com/event/thanksgiving-day-2/
CATEGORIES:Federal Holiday
END:VEVENT
BEGIN:VEVENT
DTSTART;VALUE=DATE:20261225
DTEND;VALUE=DATE:20261226
DTSTAMP:20260420T053034
CREATED:20251222T153624Z
LAST-MODIFIED:20260108T151541Z
UID:2325-1798156800-1798243199@filepoint.com
SUMMARY:Christmas Day
DESCRIPTION:EDGAR closure; NYSE closure
URL:https://filepoint.com/event/christmas-day-2/
CATEGORIES:Federal Holiday
END:VEVENT
END:VCALENDAR